BEGIN:VCALENDAR
VERSION:2.0
PRODID:-//Library Market//iCal Export//EN
BEGIN:VEVENT
SUMMARY:Basic Computer Skills
UID:5424
DTSTAMP:20260420T203100Z
DTSTART:20260725T170000Z
DTEND:20260725T180000Z
LOCATION:14 South 20th Street, Wyandanch, NY 11798, United States
ROOM: Basic Computer Skills
DESCRIPTION:Do you have any questions about your laptop or computers in ge
 neral? Come to the Wyandanch Library and we will try our best to answer an
 y questions you may have.  
URL:https://wyandanch.librarycalendar.com/event/basic-computer-skills-5424
END:VEVENT
END:VCALENDAR
